BEGIN:VCALENDAR
VERSION:2.0
PRODID:-//eventon.com NONSGML v1.0//EN
CALSCALE:GREGORIAN
METHOD:PUBLISH
BEGIN:VEVENT
UID:69e5e753023f8
DTSTAMP:20260420T084403Z
DTSTART:20241213T215200Z
DTEND:20241213T215200Z
LOCATION:
SUMMARY:NPO Radio 5 - Hilversum
DESCRIPTION:\nhttps://miekesite.be/events/npo-radio-5-hilversum/
URL:https://miekesite.be/events/npo-radio-5-hilversum/
END:VEVENT
END:VCALENDAR