BEGIN:VCALENDAR
VERSION:2.0
PRODID:-//eventon.com NONSGML v1.0//EN
CALSCALE:GREGORIAN
METHOD:PUBLISH
BEGIN:VEVENT
UID:69e5e8d3b2e8a
DTSTAMP:20260420T085027Z
DTSTART:20240914
DTEND:20240915
LOCATION:
SUMMARY:Privé
DESCRIPTION:\nhttps://miekesite.be/events/prive-5/
URL:https://miekesite.be/events/prive-5/
END:VEVENT
END:VCALENDAR