BEGIN:VCALENDAR
VERSION:2.0
PRODID:-//eventon.com NONSGML v1.0//EN
CALSCALE:GREGORIAN
METHOD:PUBLISH
BEGIN:VEVENT
UID:69e57d29736de
DTSTAMP:20260420T011105Z
DTSTART:20240815T125600Z
DTEND:20240815T125600Z
LOCATION:
SUMMARY:De Barelhoeve (Kinderboerderij)  - Bornem
DESCRIPTION:\nhttps://miekesite.be/events/de-barelhoeve-kinderboerderij-bor
 nem/
URL:https://miekesite.be/events/de-barelhoeve-kinderboerderij-bornem/
END:VEVENT
END:VCALENDAR